BEGIN:VCALENDAR
VERSION:2.0
PRODID:-// - ECPv6.15.20//NONSGML v1.0//EN
CALSCALE:GREGORIAN
METHOD:PUBLISH
X-ORIGINAL-URL:https://www.rheinmainfair.org
X-WR-CALDESC:Veranstaltungen für 
REFRESH-INTERVAL;VALUE=DURATION:PT1H
X-Robots-Tag:noindex
X-PUBLISHED-TTL:PT1H
BEGIN:VTIMEZONE
TZID:Europe/Berlin
BEGIN:DAYLIGHT
TZOFFSETFROM:+0100
TZOFFSETTO:+0200
TZNAME:CEST
DTSTART:20230326T010000
END:DAYLIGHT
BEGIN:STANDARD
TZOFFSETFROM:+0200
TZOFFSETTO:+0100
TZNAME:CET
DTSTART:20231029T010000
END:STANDARD
BEGIN:DAYLIGHT
TZOFFSETFROM:+0100
TZOFFSETTO:+0200
TZNAME:CEST
DTSTART:20240331T010000
END:DAYLIGHT
BEGIN:STANDARD
TZOFFSETFROM:+0200
TZOFFSETTO:+0100
TZNAME:CET
DTSTART:20241027T010000
END:STANDARD
BEGIN:DAYLIGHT
TZOFFSETFROM:+0100
TZOFFSETTO:+0200
TZNAME:CEST
DTSTART:20250330T010000
END:DAYLIGHT
BEGIN:STANDARD
TZOFFSETFROM:+0200
TZOFFSETTO:+0100
TZNAME:CET
DTSTART:20251026T010000
END:STANDARD
END:VTIMEZONE
BEGIN:VEVENT
DTSTART;TZID=Europe/Berlin:20241206T170000
DTEND;TZID=Europe/Berlin:20241208T210000
DTSTAMP:20260423T235629
CREATED:20241201T193112Z
LAST-MODIFIED:20241201T193112Z
UID:22231-1733504400-1733691600@www.rheinmainfair.org
SUMMARY:Fairer Ingelheimer Weihnachtsmarktstand
DESCRIPTION:Hier stattet dich die Fairtrade-Town-Initiative Ingelheim mit allerlei Produkten aus\, die du für einen gemütlichen Adventsnachmittag nutzen kannst: Kakaopulver mit Chili\, Kerzenständer\, ein Wimmelbild-Puzzle mit dem Motiv des Ingelheimer Weihnachtsmarkts und vieles mehr. Du brauchst Unterstützung beim Geschenke verpacken? Wir zeigen dir am Stand\, wie das nachhaltig und hübsch gelingt. \n\n\n\n\nwww.ingelheim.de/rathaus-politik/stadtprojekte/fairtrade-town
URL:https://www.rheinmainfair.org/event/fairer-ingelheimer-weihnachtsmarktstand/
LOCATION:Rheinland-Pfalz\, Rheinland-Pfalz\, Deutschland
CATEGORIES:RMF
END:VEVENT
END:VCALENDAR